BEGIN:VCALENDAR
VERSION:2.0
CALSCALE:GREGORIAN
PRODID:adamgibbons/ics
METHOD:PUBLISH
X-PUBLISHED-TTL:PT1H
BEGIN:VEVENT
UID:eo4expM1IXo_eaOEHlnlN
SUMMARY:Ballada - Festa del barri de l'Eixample
DTSTAMP:20260423T145616Z
DTSTART:20250511T170000
DESCRIPTION:\nDescripció: Cobla Principal de Banyoles\nCobles: \, Ciutat de
	 Cornellà\, Reus Jove i Conjunt
LOCATION:GIRONA
DURATION:PT2H
END:VEVENT
END:VCALENDAR
