BEGIN:VCALENDAR
VERSION:2.0
CALSCALE:GREGORIAN
PRODID:adamgibbons/ics
METHOD:PUBLISH
X-PUBLISHED-TTL:PT1H
BEGIN:VEVENT
UID:yTP97gvbIlSm5uBcbowZr
SUMMARY:Ballada - Festa Major dels Sants Màrtirs
DTSTAMP:20260423T145251Z
DTSTART:20250429T121500
DESCRIPTION:\nDescripció: Cobla Jovenívola de Sabadell\nCobles: La Principa
	l de Tarragona i Ciutat de Girona
LOCATION:VILASSAR DE DALT
DURATION:PT2H
END:VEVENT
END:VCALENDAR
