BEGIN:VCALENDAR
VERSION:2.0
CALSCALE:GREGORIAN
PRODID:adamgibbons/ics
METHOD:PUBLISH
X-PUBLISHED-TTL:PT1H
BEGIN:VEVENT
UID:1slmF_Q0xlds8VmZDIHJl
SUMMARY:Ballada
DTSTAMP:20260423T145227Z
DTSTART:20250504T110000
DESCRIPTION:\nDescripció: Cobla Ciutat de Granollers\nCobles: La Principal 
	de Tarragona i Ciutat de Girona
LOCATION:GRANOLLERS
DURATION:PT2H
END:VEVENT
END:VCALENDAR
