BEGIN:VCALENDAR
VERSION:2.0
CALSCALE:GREGORIAN
PRODID:adamgibbons/ics
METHOD:PUBLISH
X-PUBLISHED-TTL:PT1H
BEGIN:VEVENT
UID:7h9PzhfMFKS7SFDV1ZyXV
SUMMARY:Ballada
DTSTAMP:20260423T145334Z
DTSTART:20250524T180000
DESCRIPTION:\nDescripció: Llusos Cobla\nCobles: La Flama de Farners i La Pr
	incipal de Tarragona
LOCATION:VIC
DURATION:PT2H
END:VEVENT
END:VCALENDAR
