BEGIN:VCALENDAR
VERSION:2.0
CALSCALE:GREGORIAN
PRODID:adamgibbons/ics
METHOD:PUBLISH
X-PUBLISHED-TTL:PT1H
BEGIN:VEVENT
UID:QIwm8SR3u5eSC5UYhDRE9
SUMMARY:Ballada - Diada de Sant Jordi
DTSTAMP:20260423T150306Z
DTSTART:20250423T191500
DESCRIPTION:\nDescripció: Cobla Nova Vallès\nCobles: \, Ciutat de Cornellà\
	, Reus Jove i Conjunt
LOCATION:LLIÇÀ D'AMUNT
DURATION:PT2H
END:VEVENT
END:VCALENDAR
