BEGIN:VCALENDAR
VERSION:2.0
CALSCALE:GREGORIAN
PRODID:adamgibbons/ics
METHOD:PUBLISH
X-PUBLISHED-TTL:PT1H
BEGIN:VEVENT
UID:2GCnBCzrbUupbg8jwm5Cd
SUMMARY:Ballada - 55a Festa de la Pubilla de la Sardana
DTSTAMP:20260423T145356Z
DTSTART:20250421T183000
DESCRIPTION:\nDescripció: Cobla Principal d'Olot\nCobles: \, Ciutat de Corn
	ellà\, Reus Jove i Conjunt
LOCATION:CAMPDEVÀNOL
DURATION:PT2H
END:VEVENT
END:VCALENDAR
