BEGIN:VCALENDAR
VERSION:2.0
CALSCALE:GREGORIAN
PRODID:adamgibbons/ics
METHOD:PUBLISH
X-PUBLISHED-TTL:PT1H
BEGIN:VEVENT
UID:IAEc-vbS7Z5rRahzFpanu
SUMMARY:Aplec de Gràcia
DTSTAMP:20260423T150208Z
DTSTART:20250510T170000
DESCRIPTION:\nDescripció: Cobles Mediterrània\, Sant Jordi - Ciutat de Barc
	elona i Jovenívola de Sabadell\nCobles: Ciutat de Terrassa i La Flama de F
	arners
LOCATION:BARCELONA
DURATION:PT2H
END:VEVENT
END:VCALENDAR
