BEGIN:VCALENDAR
VERSION:2.0
CALSCALE:GREGORIAN
PRODID:adamgibbons/ics
METHOD:PUBLISH
X-PUBLISHED-TTL:PT1H
BEGIN:VEVENT
UID:G_LzQnywJRnl0bsj7Qt8-
SUMMARY:Ballada - Dia Universal de la Sardana
DTSTAMP:20260423T145251Z
DTSTART:20250622T104500
DESCRIPTION:\nDescripció: Cobla Maricel\nCobles: La Principal de Tarragona 
	i Ciutat de Girona
LOCATION:BALAGUER
DURATION:PT2H
END:VEVENT
END:VCALENDAR
