BEGIN:VCALENDAR
VERSION:2.0
CALSCALE:GREGORIAN
PRODID:adamgibbons/ics
METHOD:PUBLISH
X-PUBLISHED-TTL:PT1H
BEGIN:VEVENT
UID:8LPuj8vt6COKZZrIIPkAo
SUMMARY:Ballada
DTSTAMP:20260423T145223Z
DTSTART:20250517T190000
DESCRIPTION:\nDescripció: Cobla Baix Llobregat\nCobles: \, Ciutat de Cornel
	là\, Reus Jove i Conjunt
LOCATION:ARENYS DE MUNT
DURATION:PT2H
END:VEVENT
END:VCALENDAR
