BEGIN:VCALENDAR
VERSION:2.0
CALSCALE:GREGORIAN
PRODID:adamgibbons/ics
METHOD:PUBLISH
X-PUBLISHED-TTL:PT1H
BEGIN:VEVENT
UID:37tWKNPuiKL5i6a81AbYg
SUMMARY:Nit de la Sardana
DTSTAMP:20260423T145444Z
DTSTART:20250531T220000
DESCRIPTION:\nDescripció: Cobla Bisbal Jove\nCobles: La Flama de Farners i 
	La Principal de Tarragona
LOCATION:CORÇÀ
DURATION:PT2H
END:VEVENT
END:VCALENDAR
