BEGIN:VCALENDAR
VERSION:2.0
CALSCALE:GREGORIAN
PRODID:adamgibbons/ics
METHOD:PUBLISH
X-PUBLISHED-TTL:PT1H
BEGIN:VEVENT
UID:PJDf29LT4TKXyscwkPxhA
SUMMARY:Aplec de Granollers
DTSTAMP:20260423T145522Z
DTSTART:20250712T200000
DESCRIPTION:\nDescripció: Cobles Jovenívola de Sabadell\, Sant Jordi - Ciut
	at de Barcelona i Ciutat de Granollers\nCobles: \, Ciutat de Cornellà\, Re
	us Jove i Conjunt
LOCATION:GRANOLLERS
DURATION:PT2H
END:VEVENT
END:VCALENDAR
