BEGIN:VCALENDAR
VERSION:2.0
CALSCALE:GREGORIAN
PRODID:adamgibbons/ics
METHOD:PUBLISH
X-PUBLISHED-TTL:PT1H
BEGIN:VEVENT
UID:vHyWiR7dT2oB748u5w4zK
SUMMARY:Ballada - 99è Cicle d'estiu
DTSTAMP:20260423T150304Z
DTSTART:20250920T220000
DESCRIPTION:\nDescripció: Cobla Principal del Llobregat\nCobles: \, Ciutat 
	de Cornellà\, Reus Jove i Conjunt
LOCATION:LLORET DE MAR
DURATION:PT2H
END:VEVENT
END:VCALENDAR
