BEGIN:VCALENDAR
VERSION:2.0
CALSCALE:GREGORIAN
PRODID:adamgibbons/ics
METHOD:PUBLISH
X-PUBLISHED-TTL:PT1H
BEGIN:VEVENT
UID:qMChTiWaxFjpqokzvvIc1
SUMMARY:Ballada - Diada de Sant Joan
DTSTAMP:20260423T150431Z
DTSTART:20250624T180000
DESCRIPTION:\nDescripció: Cobla Sol de Banyuls\nCobles: \, Ciutat de Cornel
	là\, Reus Jove i Conjunt
LOCATION:CAMPRODON
DURATION:PT2H
END:VEVENT
END:VCALENDAR
