BEGIN:VCALENDAR
VERSION:2.0
CALSCALE:GREGORIAN
PRODID:adamgibbons/ics
METHOD:PUBLISH
X-PUBLISHED-TTL:PT1H
BEGIN:VEVENT
UID:D7npohyeTb4oh5nenayXC
SUMMARY:Ballada
DTSTAMP:20260423T145351Z
DTSTART:20250719T190000
DESCRIPTION:\nDescripció: Cobla Ciutat de Terrassa\nCobles: La Flama de Far
	ners i La Principal de Tarragona
LOCATION:VILADECANS
DURATION:PT2H
END:VEVENT
END:VCALENDAR
