BEGIN:VCALENDAR
VERSION:2.0
CALSCALE:GREGORIAN
PRODID:adamgibbons/ics
METHOD:PUBLISH
X-PUBLISHED-TTL:PT1H
BEGIN:VEVENT
UID:Mh_H0lkDkdz2ae4O3sqUs
SUMMARY:Ballada - Sardanes a la fresca
DTSTAMP:20260423T145657Z
DTSTART:20250723T213000
DESCRIPTION:\nDescripció: Cobla Principal del Llobregat\nCobles: \, Ciutat 
	de Cornellà\, Reus Jove i Conjunt
LOCATION:MATADEPERA
DURATION:PT2H
END:VEVENT
END:VCALENDAR
