BEGIN:VCALENDAR
VERSION:2.0
CALSCALE:GREGORIAN
PRODID:adamgibbons/ics
METHOD:PUBLISH
X-PUBLISHED-TTL:PT1H
BEGIN:VEVENT
UID:d-1k0uMHlKfjWwhBLWn0z
SUMMARY:Ballada - Sardanes a la fresca
DTSTAMP:20260423T145443Z
DTSTART:20250730T213000
DESCRIPTION:\nDescripció: Cobla Jovenívola de Sabadell\nCobles: La Flama de
	 Farners i La Principal de Tarragona
LOCATION:MATADEPERA
DURATION:PT2H
END:VEVENT
END:VCALENDAR
