BEGIN:VCALENDAR
VERSION:2.0
CALSCALE:GREGORIAN
PRODID:adamgibbons/ics
METHOD:PUBLISH
X-PUBLISHED-TTL:PT1H
BEGIN:VEVENT
UID:b5kSK_IrOAuZFdZiMAqYH
SUMMARY:Aplec de la Garrotxa
DTSTAMP:20260423T145522Z
DTSTART:20250726T110000
DESCRIPTION:\nDescripció: Cobles Bisbal Jove\, Mediterrània i Principal d'O
	lot\nCobles: La Flama de Farners i La Principal de Tarragona
LOCATION:LA VALL DE BIANYA
DURATION:PT2H
END:VEVENT
END:VCALENDAR
