BEGIN:VCALENDAR
VERSION:2.0
CALSCALE:GREGORIAN
PRODID:adamgibbons/ics
METHOD:PUBLISH
X-PUBLISHED-TTL:PT1H
BEGIN:VEVENT
UID:ayvdUxdUmymS78UkE3kqo
SUMMARY:Ballada - Dia Universal de la Sardana
DTSTAMP:20260423T145531Z
DTSTART:20250615T190000
DESCRIPTION:\nDescripció: Cobla Ciutat de Terrassa\nCobles: \, Ciutat de Co
	rnellà\, Reus Jove i Conjunt
LOCATION:SANT CUGAT DEL VALLÈS
DURATION:PT2H
END:VEVENT
END:VCALENDAR
