BEGIN:VCALENDAR
VERSION:2.0
CALSCALE:GREGORIAN
PRODID:adamgibbons/ics
METHOD:PUBLISH
X-PUBLISHED-TTL:PT1H
BEGIN:VEVENT
UID:7EyXDGlsb7_7mdWTR6ar6
SUMMARY:Ballada - Festa Major Petita
DTSTAMP:20260423T145523Z
DTSTART:20250614T190000
DESCRIPTION:\nDescripció: Cobla Maricel\nCobles: \, Ciutat de Cornellà\, Re
	us Jove i Conjunt
LOCATION:TIANA
DURATION:PT2H
END:VEVENT
END:VCALENDAR
