BEGIN:VCALENDAR
VERSION:2.0
CALSCALE:GREGORIAN
PRODID:adamgibbons/ics
METHOD:PUBLISH
X-PUBLISHED-TTL:PT1H
BEGIN:VEVENT
UID:GE3-zr6-7CwiOJ5xrTGwi
SUMMARY:Ballada - Festes del carrer Sant Jaume
DTSTAMP:20260423T145331Z
DTSTART:20250727T190000
DESCRIPTION:\nDescripció: Cobla Contemporània\nCobles: \, Ciutat de Cornell
	à\, Reus Jove i Conjunt
LOCATION:RUBÍ
DURATION:PT2H
END:VEVENT
END:VCALENDAR
