BEGIN:VCALENDAR
VERSION:2.0
CALSCALE:GREGORIAN
PRODID:adamgibbons/ics
METHOD:PUBLISH
X-PUBLISHED-TTL:PT1H
BEGIN:VEVENT
UID:aM9acLdG9ugYeLtFskcfg
SUMMARY:Ballada - Festa Major
DTSTAMP:20260423T145255Z
DTSTART:20250830T180000
DESCRIPTION:\nDescripció: Cobla Montgrins\nCobles: La Principal de Tarragon
	a i Ciutat de Girona
LOCATION:GRANOLLERS
DURATION:PT2H
END:VEVENT
END:VCALENDAR
