BEGIN:VCALENDAR
VERSION:2.0
CALSCALE:GREGORIAN
PRODID:adamgibbons/ics
METHOD:PUBLISH
X-PUBLISHED-TTL:PT1H
BEGIN:VEVENT
UID:0vazCkBvzjjgB66XBwvn7
SUMMARY:Ballada - Festa Major
DTSTAMP:20260423T145612Z
DTSTART:20250802T200000
DESCRIPTION:\nDescripció: Cobla Marinada\nCobles: La Flama de Farners i La 
	Principal de Tarragona
LOCATION:SANT FELIU DE GUÍXOLS
DURATION:PT2H
END:VEVENT
END:VCALENDAR
