BEGIN:VCALENDAR
VERSION:2.0
CALSCALE:GREGORIAN
PRODID:adamgibbons/ics
METHOD:PUBLISH
X-PUBLISHED-TTL:PT1H
BEGIN:VEVENT
UID:LZtGVp5K42cM5qS4jbXOO
SUMMARY:Ballada - Festa Major de la Torreta
DTSTAMP:20260423T145532Z
DTSTART:20250720T110000
DESCRIPTION:\nDescripció: Cobla Genisenca\nCobles: La Flama de Farners i La
	 Principal de Tarragona
LOCATION:LA ROCA DEL VALLÈS
DURATION:PT2H
END:VEVENT
END:VCALENDAR
