BEGIN:VCALENDAR
VERSION:2.0
CALSCALE:GREGORIAN
PRODID:adamgibbons/ics
METHOD:PUBLISH
X-PUBLISHED-TTL:PT1H
BEGIN:VEVENT
UID:UbnsWinsxdiXtlGeF_rfk
SUMMARY:Ballada - Festa Major
DTSTAMP:20260423T145331Z
DTSTART:20250822T120000
DESCRIPTION:\nDescripció: Cobla Vents de Riella\nCobles: La Flama de Farner
	s i La Principal de Tarragona
LOCATION:ALPICAT
DURATION:PT2H
END:VEVENT
END:VCALENDAR
