BEGIN:VCALENDAR
VERSION:2.0
CALSCALE:GREGORIAN
PRODID:adamgibbons/ics
METHOD:PUBLISH
X-PUBLISHED-TTL:PT1H
BEGIN:VEVENT
UID:1hLJd__kQAhNpgLZbPR2e
SUMMARY:Ballada - Trobada de colles veteranes
DTSTAMP:20260423T145530Z
DTSTART:20250906T180000
DESCRIPTION:\nDescripció: Cobla Xaloc\nCobles: \, Ciutat de Cornellà\, Reus
	 Jove i Conjunt
LOCATION:ALELLA
DURATION:PT2H
END:VEVENT
END:VCALENDAR
