BEGIN:VCALENDAR
VERSION:2.0
CALSCALE:GREGORIAN
PRODID:adamgibbons/ics
METHOD:PUBLISH
X-PUBLISHED-TTL:PT1H
BEGIN:VEVENT
UID:d7pRsGR-fXQNjn-jgvfcD
SUMMARY:Aplec de Rubí
DTSTAMP:20260423T145529Z
DTSTART:20250927T173000
DESCRIPTION:\nDescripció: Cobles Jovenívola de Sabadell\, Ciutat de Girona 
	i Principal del Llobregat\nCobles: La Flama de Farners i La Principal de T
	arragona
LOCATION:RUBÍ
DURATION:PT2H
END:VEVENT
END:VCALENDAR
