BEGIN:VCALENDAR
VERSION:2.0
CALSCALE:GREGORIAN
PRODID:adamgibbons/ics
METHOD:PUBLISH
X-PUBLISHED-TTL:PT1H
BEGIN:VEVENT
UID:M4lP-xFvyZv5jpn4Pp-z6
SUMMARY:Ballada - Festa Major
DTSTAMP:20260423T145613Z
DTSTART:20250928T170000
DESCRIPTION:\nDescripció: Cobla Ciutat de Girona\nCobles: La Flama de Farne
	rs i La Principal de Tarragona
LOCATION:RIUDELLOTS DE LA SELVA
DURATION:PT2H
END:VEVENT
END:VCALENDAR
