BEGIN:VCALENDAR
VERSION:2.0
CALSCALE:GREGORIAN
PRODID:adamgibbons/ics
METHOD:PUBLISH
X-PUBLISHED-TTL:PT1H
BEGIN:VEVENT
UID:G2KsydjlMM9XNcocKrKML
SUMMARY:Ballada - Festa Major
DTSTAMP:20260423T145355Z
DTSTART:20250824T180000
DESCRIPTION:\nDescripció: Cobla Maravella\nCobles: \, Ciutat de Cornellà\, 
	Reus Jove i Conjunt
LOCATION:IGUALADA
DURATION:PT2H
END:VEVENT
END:VCALENDAR
