BEGIN:VCALENDAR
VERSION:2.0
CALSCALE:GREGORIAN
PRODID:adamgibbons/ics
METHOD:PUBLISH
X-PUBLISHED-TTL:PT1H
BEGIN:VEVENT
UID:XNyT4z6raye_-6YoNoaK-
SUMMARY:Ballada - Festa Major
DTSTAMP:20260423T145252Z
DTSTART:20250907T114500
DESCRIPTION:\nDescripció: Cobla Principal de Terrassa\nCobles: La Principal
	 de Tarragona i Ciutat de Girona
LOCATION:LES FRANQUESES DEL VALLÈS
DURATION:PT2H
END:VEVENT
END:VCALENDAR
