BEGIN:VCALENDAR
VERSION:2.0
CALSCALE:GREGORIAN
PRODID:adamgibbons/ics
METHOD:PUBLISH
X-PUBLISHED-TTL:PT1H
BEGIN:VEVENT
UID:reGT4AduMEeCvJX8FLimE
SUMMARY:Ballada
DTSTAMP:20260423T145333Z
DTSTART:20251025T180000
DESCRIPTION:\nDescripció: Cobla Principal de Banyoles\nCobles: \, Ciutat de
	 Cornellà\, Reus Jove i Conjunt
LOCATION:CAMPRODON
DURATION:PT2H
END:VEVENT
END:VCALENDAR
