BEGIN:VCALENDAR
VERSION:2.0
CALSCALE:GREGORIAN
PRODID:adamgibbons/ics
METHOD:PUBLISH
X-PUBLISHED-TTL:PT1H
BEGIN:VEVENT
UID:L0LeZzxBhzSdby9yYHg3J
SUMMARY:Concert - Les dues barítones
DTSTAMP:20260423T145201Z
DTSTART:20250920T180000
DESCRIPTION:\nDescripció: Cobla Principal del Llobregat\nCobles: \, Ciutat 
	de Cornellà\, Reus Jove i Conjunt
LOCATION:FIGUERES
DURATION:PT2H
END:VEVENT
END:VCALENDAR
