BEGIN:VCALENDAR
VERSION:2.0
CALSCALE:GREGORIAN
PRODID:adamgibbons/ics
METHOD:PUBLISH
X-PUBLISHED-TTL:PT1H
BEGIN:VEVENT
UID:DI3IrTQsedgIXynFN7HtS
SUMMARY:Ballada - Diada Nacional de Catalunya
DTSTAMP:20260423T145225Z
DTSTART:20250909T213000
DESCRIPTION:\nDescripció: Cobla Sabadell\nCobles: \, Ciutat de Cornellà\, R
	eus Jove i Conjunt
LOCATION:VILASSAR DE MAR
DURATION:PT2H
END:VEVENT
END:VCALENDAR
