BEGIN:VCALENDAR
VERSION:2.0
CALSCALE:GREGORIAN
PRODID:adamgibbons/ics
METHOD:PUBLISH
X-PUBLISHED-TTL:PT1H
BEGIN:VEVENT
UID:4M7kvoFwMMwcCAxW4IKXK
SUMMARY:Ballada - Cicle d'estiu
DTSTAMP:20260423T145441Z
DTSTART:20250824T193000
DESCRIPTION:\nDescripció: Cobla Ciutat de Granollers\nCobles: La Flama de F
	arners i La Principal de Tarragona
LOCATION:MALGRAT DE MAR
DURATION:PT2H
END:VEVENT
END:VCALENDAR
