BEGIN:VCALENDAR
VERSION:2.0
CALSCALE:GREGORIAN
PRODID:adamgibbons/ics
METHOD:PUBLISH
X-PUBLISHED-TTL:PT1H
BEGIN:VEVENT
UID:1c8RvVkn1KgiN_MnGOF1G
SUMMARY:Ballada - Festa Major
DTSTAMP:20260423T145354Z
DTSTART:20250913T190000
DESCRIPTION:\nDescripció: Cobla Jovenívola de Sabadell\nCobles: \, Ciutat d
	e Cornellà\, Reus Jove i Conjunt
LOCATION:SANT JOAN DE LES ABADESSES
DURATION:PT2H
END:VEVENT
END:VCALENDAR
