BEGIN:VCALENDAR
VERSION:2.0
CALSCALE:GREGORIAN
PRODID:adamgibbons/ics
METHOD:PUBLISH
X-PUBLISHED-TTL:PT1H
BEGIN:VEVENT
UID:OdtEjnaSsr1aXljn8DmL4
SUMMARY:Ballada - Festa Major
DTSTAMP:20260423T145829Z
DTSTART:20250914T120000
DESCRIPTION:\nDescripció: Cobla Flama de Farners\nCobles: \, Ciutat de Corn
	ellà\, Reus Jove i Conjunt
LOCATION:SANT JOAN DE LES ABADESSES
DURATION:PT2H
END:VEVENT
END:VCALENDAR
