BEGIN:VCALENDAR
VERSION:2.0
CALSCALE:GREGORIAN
PRODID:adamgibbons/ics
METHOD:PUBLISH
X-PUBLISHED-TTL:PT1H
BEGIN:VEVENT
UID:jqUo5aEhXsFsUURJsEqX5
SUMMARY:Ballada - Diada Nacional de Catalunya
DTSTAMP:20260423T145349Z
DTSTART:20250911T200000
DESCRIPTION:\nDescripció: Cobla Flama de Farners\nCobles: \, Ciutat de Corn
	ellà\, Reus Jove i Conjunt
LOCATION:BLANES
DURATION:PT2H
END:VEVENT
END:VCALENDAR
