BEGIN:VCALENDAR
VERSION:2.0
CALSCALE:GREGORIAN
PRODID:adamgibbons/ics
METHOD:PUBLISH
X-PUBLISHED-TTL:PT1H
BEGIN:VEVENT
UID:rxABIkbYBEMdo5ucmYz1_
SUMMARY:Ballada - Diada Nacional de Catalunya
DTSTAMP:20260423T145531Z
DTSTART:20250911T110000
DESCRIPTION:\nDescripció: Cobla Xaloc\nCobles: La Flama de Farners i La Pri
	ncipal de Tarragona
LOCATION:PREMIÀ DE MAR
DURATION:PT2H
END:VEVENT
END:VCALENDAR
