BEGIN:VCALENDAR
VERSION:2.0
CALSCALE:GREGORIAN
PRODID:adamgibbons/ics
METHOD:PUBLISH
X-PUBLISHED-TTL:PT1H
BEGIN:VEVENT
UID:RPdA_Eby8zc___xe0lerz
SUMMARY:Ballada
DTSTAMP:20260423T145353Z
DTSTART:20250913T190000
DESCRIPTION:\nDescripció: Lluïsos Cobla\nCobles: \, Ciutat de Cornellà\, Re
	us Jove i Conjunt
DURATION:PT2H
END:VEVENT
END:VCALENDAR
