BEGIN:VCALENDAR
VERSION:2.0
CALSCALE:GREGORIAN
PRODID:adamgibbons/ics
METHOD:PUBLISH
X-PUBLISHED-TTL:PT1H
BEGIN:VEVENT
UID:Hxk8fj0_eBQxDA5A6GXCH
SUMMARY:Ballada - Festa Major de Llerona
DTSTAMP:20260423T145224Z
DTSTART:20250914T120000
DESCRIPTION:\nDescripció: Cobla Nova Vallès\nCobles: La Principal de Tarrag
	ona i Ciutat de Girona
LOCATION:LES FRANQUESES DEL VALLÈS
DURATION:PT2H
END:VEVENT
END:VCALENDAR
