BEGIN:VCALENDAR
VERSION:2.0
CALSCALE:GREGORIAN
PRODID:adamgibbons/ics
METHOD:PUBLISH
X-PUBLISHED-TTL:PT1H
BEGIN:VEVENT
UID:cEzp7RM83Y4kwh_979ADJ
SUMMARY:Ballada
DTSTAMP:20260423T145349Z
DTSTART:20251026T113000
DESCRIPTION:\nDescripció: Cobla Ciutat de Girona\nCobles: \, Ciutat de Corn
	ellà\, Reus Jove i Conjunt
LOCATION:BADALONA
DURATION:PT2H
END:VEVENT
END:VCALENDAR
