BEGIN:VCALENDAR
VERSION:2.0
CALSCALE:GREGORIAN
PRODID:adamgibbons/ics
METHOD:PUBLISH
X-PUBLISHED-TTL:PT1H
BEGIN:VEVENT
UID:eXfx3fF5eT5vSDOKyYHxI
SUMMARY:Ballada - Festa Major
DTSTAMP:20260423T145332Z
DTSTART:20250927T170000
DESCRIPTION:\nDescripció: Cobla Flama de Farners\nCobles: \, Ciutat de Corn
	ellà\, Reus Jove i Conjunt
LOCATION:LLANARS
DURATION:PT2H
END:VEVENT
END:VCALENDAR
