BEGIN:VCALENDAR
VERSION:2.0
CALSCALE:GREGORIAN
PRODID:adamgibbons/ics
METHOD:PUBLISH
X-PUBLISHED-TTL:PT1H
BEGIN:VEVENT
UID:iQSg_sI1PqR2UStjTwq3H
SUMMARY:Aplec de Gavà
DTSTAMP:20260423T145442Z
DTSTART:20251012T160000
DESCRIPTION:\nDescripció: Cobles Sant Jordi - Ciutat de Barcelona i Contemp
	orània\nCobles: \, Ciutat de Cornellà\, Reus Jove i Conjunt
LOCATION:GAVÀ
DURATION:PT2H
END:VEVENT
END:VCALENDAR
