BEGIN:VCALENDAR
VERSION:2.0
CALSCALE:GREGORIAN
PRODID:adamgibbons/ics
METHOD:PUBLISH
X-PUBLISHED-TTL:PT1H
BEGIN:VEVENT
UID:xK0WKnJq_U5TwUOGSbBHH
SUMMARY:Aplec de les Roquetes
DTSTAMP:20260423T145331Z
DTSTART:20251026T100000
DESCRIPTION:\nDescripció: Cobles La Principal de la Bisbal\, Montgrins\, Pr
	incipal del Llobregat i Sant Jordi\nCobles: \, Ciutat de Cornellà\, Reus J
	ove i Conjunt
LOCATION:BARCELONA
DURATION:PT2H
END:VEVENT
END:VCALENDAR
