BEGIN:VCALENDAR
VERSION:2.0
CALSCALE:GREGORIAN
PRODID:adamgibbons/ics
METHOD:PUBLISH
X-PUBLISHED-TTL:PT1H
BEGIN:VEVENT
UID:XXek_T1zJDmpHfXNSIE0s
SUMMARY:Ballada - Festa Major de la Dreta de l'Eixample
DTSTAMP:20260423T145349Z
DTSTART:20251005T113000
DESCRIPTION:\nDescripció: Cobla Sant Jordi - Ciutat de Barcelona\nCobles: L
	a Flama de Farners i La Principal de Tarragona
LOCATION:BARCELONA
DURATION:PT2H
END:VEVENT
END:VCALENDAR
