BEGIN:VCALENDAR
VERSION:2.0
CALSCALE:GREGORIAN
PRODID:adamgibbons/ics
METHOD:PUBLISH
X-PUBLISHED-TTL:PT1H
BEGIN:VEVENT
UID:OnLXxcpW7Q0OCswbh5smf
SUMMARY:Ballada
DTSTAMP:20260423T145524Z
DTSTART:20251004T120000
DESCRIPTION:\nDescripció: Cobla Sant Jordi - Ciutat de Barcelona\nCobles: L
	a Flama de Farners i La Principal de Tarragona
LOCATION:BARCELONA
DURATION:PT2H
END:VEVENT
END:VCALENDAR
