BEGIN:VCALENDAR
VERSION:2.0
CALSCALE:GREGORIAN
PRODID:adamgibbons/ics
METHOD:PUBLISH
X-PUBLISHED-TTL:PT1H
BEGIN:VEVENT
UID:Ii9liM_MddK3cgQkR3uwn
SUMMARY:Ballada
DTSTAMP:20260423T145159Z
DTSTART:20251018T173000
DESCRIPTION:\nDescripció: Jovenívola de Sabadell\nCobles: \, Ciutat de Corn
	ellà\, Reus Jove i Conjunt
LOCATION:SANT CUGAT DEL VALLÈS
DURATION:PT2H
END:VEVENT
END:VCALENDAR
