BEGIN:VCALENDAR
VERSION:2.0
CALSCALE:GREGORIAN
PRODID:adamgibbons/ics
METHOD:PUBLISH
X-PUBLISHED-TTL:PT1H
BEGIN:VEVENT
UID:B-iW63TGO0R7xtRR2jHxW
SUMMARY:Ballada - Fires i Festes de Sant Narcís
DTSTAMP:20260423T145356Z
DTSTART:20251101T170000
DESCRIPTION:\nDescripció: Cobla Montgrins\nCobles: \, Ciutat de Cornellà\, 
	Reus Jove i Conjunt
LOCATION:GIRONA
DURATION:PT2H
END:VEVENT
END:VCALENDAR
