BEGIN:VCALENDAR
VERSION:2.0
CALSCALE:GREGORIAN
PRODID:adamgibbons/ics
METHOD:PUBLISH
X-PUBLISHED-TTL:PT1H
BEGIN:VEVENT
UID:ffmO3w3A2zjviRws9O8ci
SUMMARY:Ballad - Festa Major
DTSTAMP:20260423T145658Z
DTSTART:20251010T170000
DESCRIPTION:\nDescripció: Cobla Sant Jordi - Ciutat de Barcelona\nCobles: L
	a Flama de Farners i La Principal de Tarragona
LOCATION:SANT FELIU DE LLOBREGAT
DURATION:PT2H
END:VEVENT
END:VCALENDAR
