BEGIN:VCALENDAR
VERSION:2.0
CALSCALE:GREGORIAN
PRODID:adamgibbons/ics
METHOD:PUBLISH
X-PUBLISHED-TTL:PT1H
BEGIN:VEVENT
UID:pk2mGpwHT9iUHMccVDeIA
SUMMARY:Ballada - Nit del Cremat
DTSTAMP:20260423T150126Z
DTSTART:20250919T201500
DESCRIPTION:\nDescripció: Cobla Principal de Cassà\nCobles: \, Ciutat de Co
	rnellà\, Reus Jove i Conjunt
LOCATION:CASSÀ DE LA SELVA
DURATION:PT2H
END:VEVENT
END:VCALENDAR
