BEGIN:VCALENDAR
VERSION:2.0
CALSCALE:GREGORIAN
PRODID:adamgibbons/ics
METHOD:PUBLISH
X-PUBLISHED-TTL:PT1H
BEGIN:VEVENT
UID:w0Z6VeLm53eGg4c3Kn6Ca
SUMMARY:Ballada
DTSTAMP:20260423T145352Z
DTSTART:20251005T190000
DESCRIPTION:\nDescripció: Cobla Vila d'Olesa\nCobles: La Flama de Farners i
	 La Principal de Tarragona
LOCATION:OLESA DE MONTSERRAT
DURATION:PT2H
END:VEVENT
END:VCALENDAR
